BEGIN:VCALENDAR
VERSION:2.0
PRODID:-//Museo del retablo. - ECPv6.2.1//NONSGML v1.0//EN
CALSCALE:GREGORIAN
METHOD:PUBLISH
X-ORIGINAL-URL:https://www.museodelretablo.com
X-WR-CALDESC:Eventos para Museo del retablo.
REFRESH-INTERVAL;VALUE=DURATION:PT1H
X-Robots-Tag:noindex
X-PUBLISHED-TTL:PT1H
BEGIN:VTIMEZONE
TZID:UTC
BEGIN:STANDARD
TZOFFSETFROM:+0000
TZOFFSETTO:+0000
TZNAME:UTC
DTSTART:20230101T000000
END:STANDARD
END:VTIMEZONE
BEGIN:VEVENT
DTSTART;TZID=UTC:20231021T200000
DTEND;TZID=UTC:20231021T200000
DTSTAMP:20260423T183852
CREATED:20230906T102525Z
LAST-MODIFIED:20230914T100711Z
UID:10162-1697918400-1697918400@www.museodelretablo.com
SUMMARY:Presentación del disco del pianista Emilio González Sanz
DESCRIPTION:Presentación del disco ‘Por el Cuarto Camino’. Obras de Gurdjieff & de Hartmann\, Ana Vázquez Silva y Javier Centeno.
URL:https://www.museodelretablo.com/evento/presentacion-del-disco-del-pianista-emilio-gonzalez-sanz
LOCATION:Museo del retablo de Burgos (Iglesia de San Esteban)\, C. San Esteban\, 1\,\, Burgos\, Burgos\, 09003\, España
CATEGORIES:Música
ATTACH;FMTTYPE=image/jpeg:https://www.museodelretablo.com/wp-content/uploads/2023/09/por-el-cuarto-camino.jpg
END:VEVENT
END:VCALENDAR