BEGIN:VCALENDAR
VERSION:2.0
PRODID:-//Museo del retablo. - ECPv6.2.1//NONSGML v1.0//EN
CALSCALE:GREGORIAN
METHOD:PUBLISH
X-WR-CALNAME:Museo del retablo.
X-ORIGINAL-URL:https://www.museodelretablo.com
X-WR-CALDESC:Eventos para Museo del retablo.
REFRESH-INTERVAL;VALUE=DURATION:PT1H
X-Robots-Tag:noindex
X-PUBLISHED-TTL:PT1H
BEGIN:VTIMEZONE
TZID:UTC
BEGIN:STANDARD
TZOFFSETFROM:+0000
TZOFFSETTO:+0000
TZNAME:UTC
DTSTART:20230101T000000
END:STANDARD
END:VTIMEZONE
BEGIN:VEVENT
DTSTART;TZID=UTC:20230928T200000
DTEND;TZID=UTC:20230928T200000
DTSTAMP:20260423T183737
CREATED:20230906T101836Z
LAST-MODIFIED:20230925T131906Z
UID:10155-1695931200-1695931200@www.museodelretablo.com
SUMMARY:Concierto Luis Gallego (violín) y Rubén Ramiro (piano)
DESCRIPTION:Luis Gallego (violín) y Rubén Ramiro (piano) \nObras de Granados\, Schumann y Franck
URL:https://www.museodelretablo.com/evento/concierto-luis-gallego-violin-y-ruben-marino-piano
LOCATION:Museo del retablo de Burgos (Iglesia de San Esteban)\, C. San Esteban\, 1\,\, Burgos\, Burgos\, 09003\, España
CATEGORIES:Música
ATTACH;FMTTYPE=image/jpeg:https://www.museodelretablo.com/wp-content/uploads/2023/09/violin_y_piano.jpg
END:VEVENT
END:VCALENDAR